BEGIN:VCALENDAR
VERSION:2.0
PRODID:-//Espace des sciences et de découverte - ECPv6.15.13.1//NONSGML v1.0//EN
CALSCALE:GREGORIAN
METHOD:PUBLISH
X-ORIGINAL-URL:https://www.espace-sciences-decouverte.fr
X-WR-CALDESC:Évènements pour Espace des sciences et de découverte
REFRESH-INTERVAL;VALUE=DURATION:PT1H
X-Robots-Tag:noindex
X-PUBLISHED-TTL:PT1H
BEGIN:VTIMEZONE
TZID:Europe/Paris
BEGIN:DAYLIGHT
TZOFFSETFROM:+0100
TZOFFSETTO:+0200
TZNAME:CEST
DTSTART:20250330T010000
END:DAYLIGHT
BEGIN:STANDARD
TZOFFSETFROM:+0200
TZOFFSETTO:+0100
TZNAME:CET
DTSTART:20251026T010000
END:STANDARD
BEGIN:DAYLIGHT
TZOFFSETFROM:+0100
TZOFFSETTO:+0200
TZNAME:CEST
DTSTART:20260329T010000
END:DAYLIGHT
BEGIN:STANDARD
TZOFFSETFROM:+0200
TZOFFSETTO:+0100
TZNAME:CET
DTSTART:20261025T010000
END:STANDARD
BEGIN:DAYLIGHT
TZOFFSETFROM:+0100
TZOFFSETTO:+0200
TZNAME:CEST
DTSTART:20270328T010000
END:DAYLIGHT
BEGIN:STANDARD
TZOFFSETFROM:+0200
TZOFFSETTO:+0100
TZNAME:CET
DTSTART:20271031T010000
END:STANDARD
END:VTIMEZONE
BEGIN:VEVENT
DTSTART;TZID=Europe/Paris:20260207T000000
DTEND;TZID=Europe/Paris:20260221T235959
DTSTAMP:20260423T005456
CREATED:20260202T112317Z
LAST-MODIFIED:20260202T120125Z
UID:919-1770422400-1771718399@www.espace-sciences-decouverte.fr
SUMMARY:Quinzaine du numérique
DESCRIPTION:[EVENEMENT] Quinzaine du numérique\n\n\n\nPlanète Sciences et MédiaSciences organisent diverses activités sur la thématique de la musique\, lors de la quinzaine du numérique.Retrouvez-nous à l’Espace des Sciences et de Découverte\, du 7 au 21 février 2026 !Programme :➡Samedi 7 février 2026 de 14h à 16h – Game Party💃Samba de Amigo&Just Dance (sur inscription)➡Samedi Sciences pour Tous – Samedi 21 février 2026 de 14h à 18h🎵Maestro : Instruments numériques et tablettes🎵FabLab – création musicale🎵Expériences sonores➡Du 7 au 21 février 2026 sur les horaires d’ouverture\, venez jouer du piano géant !📍 Espace des Sciences et de Découverte10 rue du Marquis de Raies\,91080 Evry-Courcouronnes🗓️ Du Samedi 7 février au samedi 21 février 2026⌚ Horaires d’ouverture🎟️ GRATUIT
URL:https://www.espace-sciences-decouverte.fr/evenements/quinzaine-du-numerique/
CATEGORIES:Evènement
ATTACH;FMTTYPE=image/png:https://www.espace-sciences-decouverte.fr/wp-content/uploads/2026/02/RS-quizaine-du-numeriques.png
END:VEVENT
END:VCALENDAR