BEGIN:VCALENDAR
VERSION:2.0
PRODID:-//Espace des sciences et de découverte - ECPv6.15.13.1//NONSGML v1.0//EN
CALSCALE:GREGORIAN
METHOD:PUBLISH
X-WR-CALNAME:Espace des sciences et de découverte
X-ORIGINAL-URL:https://www.espace-sciences-decouverte.fr
X-WR-CALDESC:Évènements pour Espace des sciences et de découverte
REFRESH-INTERVAL;VALUE=DURATION:PT1H
X-Robots-Tag:noindex
X-PUBLISHED-TTL:PT1H
BEGIN:VTIMEZONE
TZID:Europe/Paris
BEGIN:DAYLIGHT
TZOFFSETFROM:+0100
TZOFFSETTO:+0200
TZNAME:CEST
DTSTART:20250330T010000
END:DAYLIGHT
BEGIN:STANDARD
TZOFFSETFROM:+0200
TZOFFSETTO:+0100
TZNAME:CET
DTSTART:20251026T010000
END:STANDARD
BEGIN:DAYLIGHT
TZOFFSETFROM:+0100
TZOFFSETTO:+0200
TZNAME:CEST
DTSTART:20260329T010000
END:DAYLIGHT
BEGIN:STANDARD
TZOFFSETFROM:+0200
TZOFFSETTO:+0100
TZNAME:CET
DTSTART:20261025T010000
END:STANDARD
BEGIN:DAYLIGHT
TZOFFSETFROM:+0100
TZOFFSETTO:+0200
TZNAME:CEST
DTSTART:20270328T010000
END:DAYLIGHT
BEGIN:STANDARD
TZOFFSETFROM:+0200
TZOFFSETTO:+0100
TZNAME:CET
DTSTART:20271031T010000
END:STANDARD
END:VTIMEZONE
BEGIN:VEVENT
DTSTART;TZID=Europe/Paris:20260117T140000
DTEND;TZID=Europe/Paris:20260117T180000
DTSTAMP:20260422T174924
CREATED:20260112T142552Z
LAST-MODIFIED:20260112T152655Z
UID:881-1768658400-1768672800@www.espace-sciences-decouverte.fr
SUMMARY:Samedi Sciences pour Tous - le Cinéma
DESCRIPTION:Planète Sciences et Médiasciences vous invitent à découvrir le cinéma lors du premier Samedi Sciences pour Tous de l’année 2026 !\nNe manquez pas ce rendez-vous 🎥 que vous soyez cinéphile\, ou non 🤗\n\n📍 Espace des Sciences et de Découverte\n10 rue du Marquis de Raies\,\n91080 Evry-Courcouronnes\n🗓️ Samedi 17 Janvier 2026\n⌚ de 14h à 18h\n🎟️ GRATUIT ET SANS INSCRIPTION
URL:https://www.espace-sciences-decouverte.fr/evenements/samedi-science-pour-tous-le-cinema/
LOCATION:Espace des Sciences et de Découverte\, 10 rue du Marquis de Raies\, Evry-Courcouronnes\, 91080\, France
CATEGORIES:SST
ATTACH;FMTTYPE=image/png:https://www.espace-sciences-decouverte.fr/wp-content/uploads/2026/01/17_RS.png
END:VEVENT
END:VCALENDAR